BEGIN:VCALENDAR
VERSION:2.0
PRODID:-//Bürgerenergie Wiehl e.V. - ECPv6.15.20//NONSGML v1.0//EN
CALSCALE:GREGORIAN
METHOD:PUBLISH
X-ORIGINAL-URL:https://buergerenergie-wiehl.de
X-WR-CALDESC:Veranstaltungen für Bürgerenergie Wiehl e.V.
REFRESH-INTERVAL;VALUE=DURATION:PT1H
X-Robots-Tag:noindex
X-PUBLISHED-TTL:PT1H
BEGIN:VTIMEZONE
TZID:UTC
BEGIN:STANDARD
TZOFFSETFROM:+0000
TZOFFSETTO:+0000
TZNAME:UTC
DTSTART:20220101T000000
END:STANDARD
END:VTIMEZONE
BEGIN:VEVENT
DTSTART;TZID=UTC:20231116T183000
DTEND;TZID=UTC:20231116T200000
DTSTAMP:20260422T134334
CREATED:20231020T090224Z
LAST-MODIFIED:20231104T093707Z
UID:436-1700159400-1700164800@buergerenergie-wiehl.de
SUMMARY:BüWi e.V. Infoveranstaltung: "Bürgerbeteiligungsverfahren und Energiepolitik in Wiehl" mit Uwe Boecker
DESCRIPTION:Die Veranstaltung wird im Gemeindehaus Marienhagen am 16.11.2023 um 18.30 Uhr stattfinden. Sie ist kostenfrei und eine Anmeldung ist nicht erforderlich. \nDer Referent dieses Abends ist Uwe Boecker. Er ist ein Gründungsmitglied des Vereins und kann auf langjährige berufliche Erfahrungen bei Arbeitgebern aus dem Energiebereich zurückblicken. Unter anderem war er Geschäftsführer der Gemeindewerke Nümbrecht\, aber auch andere Stadtwerke und die RWE zählen zu seinen ehemaligen Wirkungskreisen. \nIn seinem Vortrag wird es darum gehen aufzuzeigen\, wohin es in der Wiehler Energiepolitik in Zukunft gehen könnte. Beginnend mit einem Exkurs in die allgemeine Energiepolitik und die Versäumnisse der Vergangenheit soll der Vortrag einen Einblick geben\, wie der Energiemarkt der Zukunft aussehen wird und welche Chancen sich hieraus für die Bürgerinnen und Bürger der Stadt Wiehl ergeben. Es werden verschiedene Beteiligungsmodelle vorgestellt\, deren Anwendung vor Ort eine gerechte und ökologische Energiewende ermöglichen könnte. \nIm Anschluss an den Vortrag folgt eine offene Diskussion\, in der Fragen und Anregungen aus dem Publikum diskutiert werden. \nProgramm\nBegrüßung und Vorstellung des Vereins durch Vorstandsmitglied Ingo Kötter\nVortrag “Bürgerbeteiligungsverfahren und Energiepolitik in Wiehl” mit Uwe Boecker\noffene Frage- und Gesprächsrunde
URL:https://buergerenergie-wiehl.de/event/buewi-infoveranstaltung-buergerbeteiligungsverfahren-und-energiepolitik-in-wiehl-mit-uwe-boecker/
LOCATION:Gemeindehaus Wiehl-Mariehagen\, Am Kirchplatz 4\, Wiehl\, 51674\, Deutschland
ORGANIZER;CN="B%C3%BCrgerenergie Wiehl e.V.":MAILTO:info@buergerenergie-wiehl.de
END:VEVENT
END:VCALENDAR